BEGIN:VCALENDAR
VERSION:2.0
PRODID:-//Pleasant Valley Baptist Chuch - ECPv6.15.20//NONSGML v1.0//EN
CALSCALE:GREGORIAN
METHOD:PUBLISH
X-WR-CALNAME:Pleasant Valley Baptist Chuch
X-ORIGINAL-URL:https://pvbaptist.org
X-WR-CALDESC:Events for Pleasant Valley Baptist Chuch
REFRESH-INTERVAL;VALUE=DURATION:PT1H
X-Robots-Tag:noindex
X-PUBLISHED-TTL:PT1H
BEGIN:VTIMEZONE
TZID:America/Los_Angeles
BEGIN:DAYLIGHT
TZOFFSETFROM:-0800
TZOFFSETTO:-0700
TZNAME:PDT
DTSTART:20240310T100000
END:DAYLIGHT
BEGIN:STANDARD
TZOFFSETFROM:-0700
TZOFFSETTO:-0800
TZNAME:PST
DTSTART:20241103T090000
END:STANDARD
BEGIN:DAYLIGHT
TZOFFSETFROM:-0800
TZOFFSETTO:-0700
TZNAME:PDT
DTSTART:20250309T100000
END:DAYLIGHT
BEGIN:STANDARD
TZOFFSETFROM:-0700
TZOFFSETTO:-0800
TZNAME:PST
DTSTART:20251102T090000
END:STANDARD
BEGIN:DAYLIGHT
TZOFFSETFROM:-0800
TZOFFSETTO:-0700
TZNAME:PDT
DTSTART:20260308T100000
END:DAYLIGHT
BEGIN:STANDARD
TZOFFSETFROM:-0700
TZOFFSETTO:-0800
TZNAME:PST
DTSTART:20261101T090000
END:STANDARD
END:VTIMEZONE
BEGIN:VEVENT
DTSTART;VALUE=DATE:20250616
DTEND;VALUE=DATE:20250620
DTSTAMP:20260424T021807
CREATED:20250425T163539Z
LAST-MODIFIED:20250425T163539Z
UID:3181-1750032000-1750377599@pvbaptist.org
SUMMARY:Youth Conference
DESCRIPTION:Click here to register
URL:https://pvbaptist.org/event/youth-conference/
END:VEVENT
BEGIN:VEVENT
DTSTART;TZID=America/Los_Angeles:20250608T180000
DTEND;TZID=America/Los_Angeles:20250608T200000
DTSTAMP:20260424T021807
CREATED:20250425T163321Z
LAST-MODIFIED:20250425T163629Z
UID:3177-1749405600-1749412800@pvbaptist.org
SUMMARY:Outdoor Baptism Service and Barbecue
DESCRIPTION:Click here to register
URL:https://pvbaptist.org/event/outdoor-baptism-service-and-barbecue/
END:VEVENT
BEGIN:VEVENT
DTSTART;VALUE=DATE:20250608
DTEND;VALUE=DATE:20250609
DTSTAMP:20260424T021807
CREATED:20250425T163233Z
LAST-MODIFIED:20250425T163233Z
UID:3175-1749340800-1749427199@pvbaptist.org
SUMMARY:71st Anniversary
DESCRIPTION:
URL:https://pvbaptist.org/event/71st-anniversary/
END:VEVENT
BEGIN:VEVENT
DTSTART;TZID=America/Los_Angeles:20250602T180000
DTEND;TZID=America/Los_Angeles:20250602T200000
DTSTAMP:20260424T021807
CREATED:20250508T222814Z
LAST-MODIFIED:20250508T222814Z
UID:3207-1748887200-1748894400@pvbaptist.org
SUMMARY:MOMs Night
DESCRIPTION:
URL:https://pvbaptist.org/event/moms-night/
END:VEVENT
BEGIN:VEVENT
DTSTART;TZID=America/Los_Angeles:20250528T203000
DTEND;TZID=America/Los_Angeles:20250528T220000
DTSTAMP:20260424T021807
CREATED:20250508T222947Z
LAST-MODIFIED:20250508T222947Z
UID:3209-1748464200-1748469600@pvbaptist.org
SUMMARY:Men's Basketball Begins
DESCRIPTION:After the evening services on May 28\, June 4\, June 11\, and June 18\, from 8:30 PM – 10:00 PM.
URL:https://pvbaptist.org/event/mens-basketball-begins/
END:VEVENT
BEGIN:VEVENT
DTSTART;TZID=America/Los_Angeles:20250525T180000
DTEND;TZID=America/Los_Angeles:20250525T190000
DTSTAMP:20260424T021807
CREATED:20250425T163137Z
LAST-MODIFIED:20250425T163137Z
UID:3173-1748196000-1748199600@pvbaptist.org
SUMMARY:Pleasant Valley Baptist School Graduation
DESCRIPTION:
URL:https://pvbaptist.org/event/pleasant-valley-baptist-school-graduation/
END:VEVENT
BEGIN:VEVENT
DTSTART;TZID=America/Los_Angeles:20250523T190000
DTEND;TZID=America/Los_Angeles:20250523T203000
DTSTAMP:20260424T021807
CREATED:20250505T235324Z
LAST-MODIFIED:20250505T235324Z
UID:3200-1748026800-1748032200@pvbaptist.org
SUMMARY:PVBS Drama Presentation
DESCRIPTION:
URL:https://pvbaptist.org/event/pvbs-drama-presentation/
END:VEVENT
BEGIN:VEVENT
DTSTART;VALUE=DATE:20250511
DTEND;VALUE=DATE:20250512
DTSTAMP:20260424T021807
CREATED:20250425T163047Z
LAST-MODIFIED:20250425T163047Z
UID:3171-1746921600-1747007999@pvbaptist.org
SUMMARY:Mother's Day
DESCRIPTION:
URL:https://pvbaptist.org/event/mothers-day/
END:VEVENT
BEGIN:VEVENT
DTSTART;VALUE=DATE:20250511
DTEND;VALUE=DATE:20250512
DTSTAMP:20260424T021807
CREATED:20250425T163013Z
LAST-MODIFIED:20250425T163013Z
UID:3169-1746921600-1747007999@pvbaptist.org
SUMMARY:Parent and Baby Dedication
DESCRIPTION:
URL:https://pvbaptist.org/event/parent-and-baby-dedication/
END:VEVENT
BEGIN:VEVENT
DTSTART;TZID=America/Los_Angeles:20250509T180000
DTEND;TZID=America/Los_Angeles:20250509T190000
DTSTAMP:20260424T021807
CREATED:20250411T210247Z
LAST-MODIFIED:20250411T210247Z
UID:3150-1746813600-1746817200@pvbaptist.org
SUMMARY:Ladies Gathering
DESCRIPTION:
URL:https://pvbaptist.org/event/ladies-gathering/
END:VEVENT
BEGIN:VEVENT
DTSTART;TZID=America/Los_Angeles:20250504T123000
DTEND;TZID=America/Los_Angeles:20250504T133000
DTSTAMP:20260424T021807
CREATED:20250327T174714Z
LAST-MODIFIED:20250327T174714Z
UID:3124-1746361800-1746365400@pvbaptist.org
SUMMARY:Starting Point
DESCRIPTION:
URL:https://pvbaptist.org/event/starting-point-2/
END:VEVENT
BEGIN:VEVENT
DTSTART;VALUE=DATE:20250420
DTEND;VALUE=DATE:20250421
DTSTAMP:20260424T021807
CREATED:20250227T225629Z
LAST-MODIFIED:20250227T225629Z
UID:3020-1745107200-1745193599@pvbaptist.org
SUMMARY:Easter
DESCRIPTION:
URL:https://pvbaptist.org/event/easter/
END:VEVENT
BEGIN:VEVENT
DTSTART;TZID=America/Los_Angeles:20250419T170000
DTEND;TZID=America/Los_Angeles:20250419T180000
DTSTAMP:20260424T021807
CREATED:20250404T222557Z
LAST-MODIFIED:20250404T222557Z
UID:3138-1745082000-1745085600@pvbaptist.org
SUMMARY:Easter Prayer Service
DESCRIPTION:
URL:https://pvbaptist.org/event/easter-prayer-service/
END:VEVENT
BEGIN:VEVENT
DTSTART;TZID=America/Los_Angeles:20250416T190000
DTEND;TZID=America/Los_Angeles:20250416T200000
DTSTAMP:20260424T021807
CREATED:20250227T225539Z
LAST-MODIFIED:20250227T225539Z
UID:3018-1744830000-1744833600@pvbaptist.org
SUMMARY:Men and Ladies Bible Study
DESCRIPTION:
URL:https://pvbaptist.org/event/men-and-ladies-bible-study-4/
END:VEVENT
BEGIN:VEVENT
DTSTART;TZID=America/Los_Angeles:20250412T093000
DTEND;TZID=America/Los_Angeles:20250412T120000
DTSTAMP:20260424T021807
CREATED:20250404T222523Z
LAST-MODIFIED:20250404T222523Z
UID:3136-1744450200-1744459200@pvbaptist.org
SUMMARY:1 of 100
DESCRIPTION:
URL:https://pvbaptist.org/event/1-of-100/
END:VEVENT
BEGIN:VEVENT
DTSTART;TZID=America/Los_Angeles:20250409T190000
DTEND;TZID=America/Los_Angeles:20250409T200000
DTSTAMP:20260424T021807
CREATED:20250227T225508Z
LAST-MODIFIED:20250227T225508Z
UID:3016-1744225200-1744228800@pvbaptist.org
SUMMARY:Men and Ladies Bible Study
DESCRIPTION:
URL:https://pvbaptist.org/event/men-and-ladies-bible-study-3/
END:VEVENT
BEGIN:VEVENT
DTSTART;TZID=America/Los_Angeles:20250402T190000
DTEND;TZID=America/Los_Angeles:20250402T200000
DTSTAMP:20260424T021807
CREATED:20250227T225439Z
LAST-MODIFIED:20250227T225439Z
UID:3014-1743620400-1743624000@pvbaptist.org
SUMMARY:Men and Ladies Bible Study
DESCRIPTION:
URL:https://pvbaptist.org/event/men-and-ladies-bible-study-2/
END:VEVENT
BEGIN:VEVENT
DTSTART;TZID=America/Los_Angeles:20250330T180000
DTEND;TZID=America/Los_Angeles:20250330T190000
DTSTAMP:20260424T021807
CREATED:20250227T225317Z
LAST-MODIFIED:20250227T225317Z
UID:3010-1743357600-1743361200@pvbaptist.org
SUMMARY:Back to School Night
DESCRIPTION:
URL:https://pvbaptist.org/event/back-to-school-night/
END:VEVENT
BEGIN:VEVENT
DTSTART;TZID=America/Los_Angeles:20250329T093000
DTEND;TZID=America/Los_Angeles:20250329T110000
DTSTAMP:20260424T021807
CREATED:20250314T205517Z
LAST-MODIFIED:20250314T205517Z
UID:3056-1743240600-1743246000@pvbaptist.org
SUMMARY:Spring Outreach Campaign Begins
DESCRIPTION:
URL:https://pvbaptist.org/event/spring-outreach-campaign-begins/
END:VEVENT
BEGIN:VEVENT
DTSTART;TZID=America/Los_Angeles:20250327T180000
DTEND;TZID=America/Los_Angeles:20250327T190000
DTSTAMP:20260424T021807
CREATED:20250314T205417Z
LAST-MODIFIED:20250314T205439Z
UID:3052-1743098400-1743102000@pvbaptist.org
SUMMARY:Spring Outreach Campaign Begins
DESCRIPTION:
URL:https://pvbaptist.org/event/spring-outreach-campaign/
END:VEVENT
BEGIN:VEVENT
DTSTART;TZID=America/Los_Angeles:20250326T190000
DTEND;TZID=America/Los_Angeles:20250326T200000
DTSTAMP:20260424T021807
CREATED:20250227T225404Z
LAST-MODIFIED:20250227T225404Z
UID:3012-1743015600-1743019200@pvbaptist.org
SUMMARY:Men and Ladies Bible Study
DESCRIPTION:
URL:https://pvbaptist.org/event/men-and-ladies-bible-study/
END:VEVENT
BEGIN:VEVENT
DTSTART;VALUE=DATE:20250309
DTEND;VALUE=DATE:20250310
DTSTAMP:20260424T021807
CREATED:20250131T190957Z
LAST-MODIFIED:20250131T190957Z
UID:2960-1741478400-1741564799@pvbaptist.org
SUMMARY:Advance Sunday
DESCRIPTION:
URL:https://pvbaptist.org/event/advance-sunday/
END:VEVENT
BEGIN:VEVENT
DTSTART;TZID=America/Los_Angeles:20250223T180000
DTEND;TZID=America/Los_Angeles:20250223T190000
DTSTAMP:20260424T021807
CREATED:20250131T190848Z
LAST-MODIFIED:20250131T190848Z
UID:2958-1740333600-1740337200@pvbaptist.org
SUMMARY:Men's Leadership Night and Ladies Night Out
DESCRIPTION:
URL:https://pvbaptist.org/event/mens-leadership-night-and-ladies-night-out/
END:VEVENT
BEGIN:VEVENT
DTSTART;TZID=America/Los_Angeles:20250216T180000
DTEND;TZID=America/Los_Angeles:20250216T200000
DTSTAMP:20260424T021807
CREATED:20250117T213719Z
LAST-MODIFIED:20250117T213719Z
UID:2934-1739728800-1739736000@pvbaptist.org
SUMMARY:Advance Fellowship Night
DESCRIPTION:
URL:https://pvbaptist.org/event/advance-fellowship-night/
END:VEVENT
BEGIN:VEVENT
DTSTART;VALUE=DATE:20250207
DTEND;VALUE=DATE:20250209
DTSTAMP:20260424T021807
CREATED:20250131T190742Z
LAST-MODIFIED:20250131T190742Z
UID:2956-1738886400-1739059199@pvbaptist.org
SUMMARY:Norcal Marriage Conference
DESCRIPTION:
URL:https://pvbaptist.org/event/nmc/
END:VEVENT
BEGIN:VEVENT
DTSTART;VALUE=DATE:20250202
DTEND;VALUE=DATE:20250203
DTSTAMP:20260424T021807
CREATED:20250131T190615Z
LAST-MODIFIED:20250131T190615Z
UID:2954-1738454400-1738540799@pvbaptist.org
SUMMARY:The Lord's Supper
DESCRIPTION:
URL:https://pvbaptist.org/event/the-lords-supper/
END:VEVENT
BEGIN:VEVENT
DTSTART;VALUE=DATE:20250131
DTEND;VALUE=DATE:20250202
DTSTAMP:20260424T021807
CREATED:20250110T224250Z
LAST-MODIFIED:20250110T224250Z
UID:2927-1738281600-1738454399@pvbaptist.org
SUMMARY:Teen Winter Retreat
DESCRIPTION:
URL:https://pvbaptist.org/event/teen-winter-retreat/
END:VEVENT
BEGIN:VEVENT
DTSTART;TZID=America/Los_Angeles:20250126T123000
DTEND;TZID=America/Los_Angeles:20250126T133000
DTSTAMP:20260424T021807
CREATED:20250110T224131Z
LAST-MODIFIED:20250110T224131Z
UID:2925-1737894600-1737898200@pvbaptist.org
SUMMARY:Starting Point
DESCRIPTION:
URL:https://pvbaptist.org/event/starting-point/
END:VEVENT
BEGIN:VEVENT
DTSTART;VALUE=DATE:20250119
DTEND;VALUE=DATE:20250123
DTSTAMP:20260424T021807
CREATED:20241218T174143Z
LAST-MODIFIED:20241218T174143Z
UID:2889-1737244800-1737590399@pvbaptist.org
SUMMARY:Winter Revival
DESCRIPTION:
URL:https://pvbaptist.org/event/winter-revival/
END:VEVENT
BEGIN:VEVENT
DTSTART;TZID=America/Los_Angeles:20250118T110000
DTEND;TZID=America/Los_Angeles:20250118T120000
DTSTAMP:20260424T021807
CREATED:20250110T223937Z
LAST-MODIFIED:20250110T223937Z
UID:2923-1737198000-1737201600@pvbaptist.org
SUMMARY:Ladies' Coffee Date
DESCRIPTION:
URL:https://pvbaptist.org/event/ladies-coffee-date/
END:VEVENT
END:VCALENDAR